
BEGIN:VCALENDAR
VERSION:2.0
PRODID:-//Dojoverse - ECPv6.15.12.2//NONSGML v1.0//EN
CALSCALE:GREGORIAN
METHOD:PUBLISH
X-ORIGINAL-URL:https://dojoverse.com
X-WR-CALDESC:Events for Dojoverse
REFRESH-INTERVAL;VALUE=DURATION:PT1H
X-Robots-Tag:noindex
X-PUBLISHED-TTL:PT1H
BEGIN:VTIMEZONE
TZID:America/Denver
BEGIN:DAYLIGHT
TZOFFSETFROM:-0700
TZOFFSETTO:-0600
TZNAME:MDT
DTSTART:20240310T090000
END:DAYLIGHT
BEGIN:STANDARD
TZOFFSETFROM:-0600
TZOFFSETTO:-0700
TZNAME:MST
DTSTART:20241103T080000
END:STANDARD
BEGIN:DAYLIGHT
TZOFFSETFROM:-0700
TZOFFSETTO:-0600
TZNAME:MDT
DTSTART:20250309T090000
END:DAYLIGHT
BEGIN:STANDARD
TZOFFSETFROM:-0600
TZOFFSETTO:-0700
TZNAME:MST
DTSTART:20251102T080000
END:STANDARD
BEGIN:DAYLIGHT
TZOFFSETFROM:-0700
TZOFFSETTO:-0600
TZNAME:MDT
DTSTART:20260308T090000
END:DAYLIGHT
BEGIN:STANDARD
TZOFFSETFROM:-0600
TZOFFSETTO:-0700
TZNAME:MST
DTSTART:20261101T080000
END:STANDARD
END:VTIMEZONE
BEGIN:VEVENT
DTSTART;VALUE=DATE:20251213
DTEND;VALUE=DATE:20251214
DTSTAMP:20260423T193518
CREATED:20251209T175356Z
LAST-MODIFIED:20251209T175437Z
UID:1351067-1765584000-1765670399@dojoverse.com
SUMMARY:Josh Sabo Birthday Bash
DESCRIPTION:Celebrate Josh Sabo’s (@sabo) 40th birthday at The Cedar Spill in Pine Grove\, CA. \n9414 Main Street\nPlymouth\, CA 95669
URL:https://dojoverse.com/event/josh-sabo-birthday-bash/
LOCATION:The Cedar Spill\, 9414 Main St # 1\, Plymouth\, 95669\, United States
ATTACH;FMTTYPE=image/png:https://static.dojoverse.com/wp-content/uploads/2025/12/09105155/dojo_693861babb30d.png
GEO:38.48103219999999;-120.8477203
X-APPLE-STRUCTURED-LOCATION;VALUE=URI;X-ADDRESS=The Cedar Spill 9414 Main St # 1 Plymouth 95669 United States;X-APPLE-RADIUS=500;X-TITLE=9414 Main St # 1:geo:-120.8477203,38.48103219999999
END:VEVENT
END:VCALENDAR